BEGIN:VCALENDAR
VERSION:2.0
PRODID:-//Cloud Gate String Quartet • Chicago Based Musicians - ECPv6.15.20//NONSGML v1.0//EN
CALSCALE:GREGORIAN
METHOD:PUBLISH
X-ORIGINAL-URL:https://www.cloudgatequartet.com
X-WR-CALDESC:Events for Cloud Gate String Quartet • Chicago Based Musicians
REFRESH-INTERVAL;VALUE=DURATION:PT1H
X-Robots-Tag:noindex
X-PUBLISHED-TTL:PT1H
BEGIN:VTIMEZONE
TZID:America/Chicago
BEGIN:DAYLIGHT
TZOFFSETFROM:-0600
TZOFFSETTO:-0500
TZNAME:CDT
DTSTART:20200308T080000
END:DAYLIGHT
BEGIN:STANDARD
TZOFFSETFROM:-0500
TZOFFSETTO:-0600
TZNAME:CST
DTSTART:20201101T070000
END:STANDARD
BEGIN:DAYLIGHT
TZOFFSETFROM:-0600
TZOFFSETTO:-0500
TZNAME:CDT
DTSTART:20210314T080000
END:DAYLIGHT
BEGIN:STANDARD
TZOFFSETFROM:-0500
TZOFFSETTO:-0600
TZNAME:CST
DTSTART:20211107T070000
END:STANDARD
BEGIN:DAYLIGHT
TZOFFSETFROM:-0600
TZOFFSETTO:-0500
TZNAME:CDT
DTSTART:20220313T080000
END:DAYLIGHT
BEGIN:STANDARD
TZOFFSETFROM:-0500
TZOFFSETTO:-0600
TZNAME:CST
DTSTART:20221106T070000
END:STANDARD
END:VTIMEZONE
BEGIN:VEVENT
DTSTART;TZID=America/Chicago:20211027T183000
DTEND;TZID=America/Chicago:20211027T193500
DTSTAMP:20260422T030854
CREATED:20210927T014400Z
LAST-MODIFIED:20211027T075711Z
UID:1706-1635359400-1635363300@www.cloudgatequartet.com
SUMMARY:Candlelight: Film Scores featuring John Williams and More
DESCRIPTION:Tickets available for purchase here. \nHire us for your event! Click here to get a quote. \n🎫 Seating for 2\n🎫 Seating for 4 \nSeating is assigned on a first come first served basis within each zone \nWhat You Will Enjoy\n🕯️ An intimate ambience in a beautiful venue bathed in candlelight\n🎻 A talented string quartet performing classical and contemporary pieces by John Williams and more\n🏛️ The stunning architecture of the iconic Artifact Events\n✔️ A safe\, comfortable and socially-distanced event\n🍽️ Drinks and snacks are available for separate purchase on-site \nGeneral Info\n📍 Venue: Artifact Events in Chicago\, IL\n📅 Date and time: October 27th at 6:30pm and 8:30pm (select during purchase)\n⏳ Duration: 65 minutes (doors open 30 mins prior to the start time and late entry is not permitted)\n👤 Age requirement: 10 years old or older. Anyone under the age of 16 must be accompanied by an adult\n♿ Accessibility: this venue is ADA compliant\n❓ View the FAQs for this event here\n🔗 Your safety is Fever’s priority. You can read the safety measures for this event here \nTentative Program \n\nLord of the Rings: The Fellowship of the Ring\nHarry Potter and the Sorcerer’s Stone\nStar Wars\nWestworld (Theme)\nGame of Thrones (Theme)\n… and more!\n\nPerformers \n\nThe Listeso String Quartet\n\nDescription\nCome get whisked away for a night of romance and drama in a tribute to some of the greatest film scores and cinematic composers of all time. This dazzling concert will feature timeless classics from iconic films and television shows like Game of Thrones\, Lord of the Rings\, Star Wars\, and more! The glow of the dim candlelight will create a relaxing atmosphere to cozy up to your favorite classics\, allowing the violins’ harmonic melodies to sweep you off your feet for an epic\, memorable evening. \nReviews\n💬 Holly H. ⭐⭐⭐⭐⭐: “Very well run and the very talented musicians were great!”\n💬 Amber B. ⭐⭐⭐⭐⭐: “This was a beautiful event with wonderfully talented musicians. Would go again and would recommend to anyone!”\n💬 Daisha T. ⭐⭐⭐⭐⭐: “This was great! The talent\, the ambiance\, the vibe made for a really great evening.”
URL:https://www.cloudgatequartet.com/concert/candlelight-film-scores-featuring-john-williams-and-more/
LOCATION:Artifact Events\, 4325 N Ravenswood Ave\, Chicago\, IL\, 60613\, United States
CATEGORIES:Candlelight: Featuring Film Scores & Hollywood Epics,Chicago, IL
ATTACH;FMTTYPE=image/jpeg:https://www.cloudgatequartet.com/wp-content/uploads/2021/09/candlelight-featured-702a76aa-1c4e-11ec-820c-2abb33287d61-r4ldBv.tmp_.jpg
END:VEVENT
END:VCALENDAR